BEGIN:VCALENDAR
VERSION:2.0
PRODID:-//Northstar Pet Rescue - ECPv6.15.17.1//NONSGML v1.0//EN
CALSCALE:GREGORIAN
METHOD:PUBLISH
X-WR-CALNAME:Northstar Pet Rescue
X-ORIGINAL-URL:https://www.northstarpets.org
X-WR-CALDESC:Events for Northstar Pet Rescue
REFRESH-INTERVAL;VALUE=DURATION:PT1H
X-Robots-Tag:noindex
X-PUBLISHED-TTL:PT1H
BEGIN:VTIMEZONE
TZID:UTC
BEGIN:STANDARD
TZOFFSETFROM:+0000
TZOFFSETTO:+0000
TZNAME:UTC
DTSTART:20160101T000000
END:STANDARD
END:VTIMEZONE
BEGIN:VEVENT
DTSTART;TZID=UTC:20191130T130000
DTEND;TZID=UTC:20191130T150000
DTSTAMP:20260419T181228
CREATED:20191116T031626Z
LAST-MODIFIED:20191116T031626Z
UID:7023-1575118800-1575126000@www.northstarpets.org
SUMMARY:NSPR in the 26th Annual BFD Christmas Parade!
DESCRIPTION:Come kick off the holiday season with us! Come see some of our volunteers + adoptable & alumni dogs marching in The 26th Annual Boonton Fire Department Christmas Parade! \nParade Starts at the Upper Plane St. parking lot and ends in the Sr. Center parking lot / Santa Land. (Snow/Rain date: Sunday- 12/1/19) \nHighlights of this fun tradition:\n● Bands\, floats\, fire trucks\, favorite characters +more in the parade\n● Santa will be arriving on a fire truck to Santa Land\n● Free pony rides\n● Free train rides\n● Free petting zoo\n● Free face painting\n● Free 50+ prizes raffled at 3PM\n-Each child will receive a wristband and have their hand stamped to qualify. All winners ​MUST​ be present. Only ​ONE​ gift per child.\n● Hot chocolate & cookies given out compliments of ​The Boonton Fire Department Ladies Auxiliary
URL:https://www.northstarpets.org/event/nspr-in-the-26th-annual-bfd-christmas-parade/
LOCATION:Boonton Downtown\, Boonton\, NJ\, United States
CATEGORIES:Parade
ATTACH;FMTTYPE=image/jpeg:https://www.northstarpets.org/wp-content/uploads/2019/11/72976557_954807001548975_1835276183126671360_n.jpg
END:VEVENT
BEGIN:VEVENT
DTSTART;TZID=UTC:20181124T130000
DTEND;TZID=UTC:20181124T170000
DTSTAMP:20260419T181228
CREATED:20180123T043334Z
LAST-MODIFIED:20180123T043334Z
UID:5757-1543064400-1543078800@www.northstarpets.org
SUMMARY:See Our Adoptable Dogs - Boonton Annual Christmas Parade
DESCRIPTION:Come see some of our adoptable dogs marching in the Annual Boonton Christmas Parade!  After the parade\, we’ll be at Santaland by the Senior Center.  Parade Starts at the Upper Plane St. parking lot and ends in the Sr. Center parking lot / Santa Land.
URL:https://www.northstarpets.org/event/see-adoptable-dogs-boonton-annual-christmas-parade-2/
LOCATION:NJ
CATEGORIES:Adoption,Exhibition,Parade
ATTACH;FMTTYPE=image/jpeg:https://www.northstarpets.org/wp-content/uploads/2017/10/B9319794306Z.1_20151120182613_000_GE2CKHED3.1-0.jpg
END:VEVENT
BEGIN:VEVENT
DTSTART;TZID=UTC:20171125T130000
DTEND;TZID=UTC:20171125T170000
DTSTAMP:20260419T181228
CREATED:20171029T220956Z
LAST-MODIFIED:20171029T220956Z
UID:5422-1511614800-1511629200@www.northstarpets.org
SUMMARY:See Our Adoptable Dogs - Boonton Annual Christmas Parade
DESCRIPTION:Come see some of our adoptable dogs marching in the Annual Boonton Christmas Parade!  After the parade\, we’ll be at Santaland by the Senior Center.  Parade Starts at the Upper Plane St. parking lot and ends in the Sr. Center parking lot / Santa Land.  (Snow / rain date: Sunday- November 26\, 2017).
URL:https://www.northstarpets.org/event/see-adoptable-dogs-boonton-annual-christmas-parade/
LOCATION:NJ
CATEGORIES:Adoption,Exhibition,Parade
ATTACH;FMTTYPE=image/jpeg:https://www.northstarpets.org/wp-content/uploads/2017/10/B9319794306Z.1_20151120182613_000_GE2CKHED3.1-0.jpg
END:VEVENT
END:VCALENDAR