BEGIN:VCALENDAR
VERSION:2.0
PRODID:-//Northstar Pet Rescue - ECPv6.15.17.1//NONSGML v1.0//EN
CALSCALE:GREGORIAN
METHOD:PUBLISH
X-ORIGINAL-URL:https://www.northstarpets.org
X-WR-CALDESC:Events for Northstar Pet Rescue
REFRESH-INTERVAL;VALUE=DURATION:PT1H
X-Robots-Tag:noindex
X-PUBLISHED-TTL:PT1H
BEGIN:VTIMEZONE
TZID:UTC
BEGIN:STANDARD
TZOFFSETFROM:+0000
TZOFFSETTO:+0000
TZNAME:UTC
DTSTART:20160101T000000
END:STANDARD
END:VTIMEZONE
BEGIN:VEVENT
DTSTART;TZID=UTC:20180504T173000
DTEND;TZID=UTC:20180504T210000
DTSTAMP:20260419T180616
CREATED:20180317T154449Z
LAST-MODIFIED:20180317T154520Z
UID:5876-1525455000-1525467600@www.northstarpets.org
SUMMARY:Opening Night of Boonton Arts - Dog Days of Summer 2018!
DESCRIPTION:Boonton Arts – Dog Days of Summer kicks off May 4th at 5:30\, with a leash cutting in front of the Dog Days of Summer mural located at Church and Main Street by the mayor of Boonton\, Matt DiLauri. The opening coincides with Boonton’s First Fridays\, featuring receptions at Boonton’s art galleries\, live music\, unique independent shops and eclectic dining. \nThey say that every dog has it’s day\, in Boonton they get the whole summer! Over 120 dog and cat sculptures will be on exhibit\, up and down the entire length of Main Street\, Boonton. This year’s designs are as interesting and diverse as the artists who created them. The participating artists include past year favorites and some inspiring new talent to make this year’s pack really something to see! Boonton Arts includes younger artists too\, with more than 80 sculptures created by local elementary and high school students.Be sure to visit our one of a kind downtown to enjoy these incredible sculptures! \nAll dog sculptures are available for adoption at Boonton Arts Etsy page\, etsy.com/shop/BoontonArts\, for a donation benefiting Northstar Rescue\, Mt. Pleasant Animal Shelter\, Eleventh Hour Rescue\, local schools\, and future art projects in the community. \nAlso\, please join us in October for our Closing Party & Art Auction! For more information visit www.BoontonArts.org and like us on Facebook.
URL:https://www.northstarpets.org/event/opening-night-boonton-arts-dog-days-summer-2018/
LOCATION:Boonton Arts\, 816 Main Street\, Boonton\, NJ\, 07005\, United States
CATEGORIES:Charity,Entertainment,Exhibition,Fundraiser
ATTACH;FMTTYPE=image/jpeg:https://www.northstarpets.org/wp-content/uploads/2018/03/29177724_1619804781431408_5694633222744952474_n.jpg
END:VEVENT
BEGIN:VEVENT
DTSTART;TZID=UTC:20180421T110000
DTEND;TZID=UTC:20180421T160000
DTSTAMP:20260419T180616
CREATED:20180123T042358Z
LAST-MODIFIED:20180123T042358Z
UID:5743-1524308400-1524326400@www.northstarpets.org
SUMMARY:Adoption Event - Northern Valley Earth Fair
DESCRIPTION:Join us for an Earth Day celebration! Stop by to meet some of our adorable adoptable dogs & fabulous volunteers! \nThis fun event will also offer energy-saving/sustainable products\, organic foods/agriculture\, animal education/rescue\, environmental preservation\, and more. \nFor more event information\, visit nv-earth-fair.org. \nEvent is rain or shine.
URL:https://www.northstarpets.org/event/adoption-event-northern-valley-earth-fair/
LOCATION:Northern Valley Regional Demarest High School – Northern Valley Earth Fair\, 150 Knickerbocker Rd\, Demarest\, NJ\, 07627\, United States
CATEGORIES:Adoption,Entertainment,Exhibition,Fair/Street Fair
ATTACH;FMTTYPE=image/jpeg:https://www.northstarpets.org/wp-content/uploads/2018/01/logo.jpg
END:VEVENT
BEGIN:VEVENT
DTSTART;TZID=UTC:20180324T120000
DTEND;TZID=UTC:20180324T160000
DTSTAMP:20260419T180616
CREATED:20180317T152736Z
LAST-MODIFIED:20180317T152736Z
UID:5867-1521892800-1521907200@www.northstarpets.org
SUMMARY:Trot into Spring Event at Bergen County Horse Rescue!
DESCRIPTION:Ticket Price: Adults $10\, Kids $5\n(Children under 10 years old are free) \nWander the farm in search of special hidden eggs during the 3 EASTER EGG HUNTS! There will also be FOOD TRUCKS\, FACE PAINTING for the kids\, MUSIC and CRAFTS. \nPLUS MEET SOME of our NORTHSTAR ADORABLE ADOPTABLE PUPS! \nYou’ll also get to MEET BCHR’s HORSES\, GOATS and CHICKENS and TOUR THE FARM\, too. Help us welcome spring at the farm at BCHR’s popular Trot into Spring event! \nWhile you’re at the farm\, be sure to visit their country store to buy equestrian-themed gift items\, books\, hand-crafted treasures and more. Be sure to pick up a BCHR t-shirt or sweatshirt to show your support for these beautiful horses too. \nAll proceeds from this event help BCHR care for their horses mind\, body and soul. \nRain Date – Sunday\, March 25\, 2018
URL:https://www.northstarpets.org/event/trot-spring-event-bergen-county-horse-rescue/
CATEGORIES:Adoption,Charity,Entertainment,Fundraiser
ATTACH;FMTTYPE=image/jpeg:https://www.northstarpets.org/wp-content/uploads/2018/03/annie-spratt-71676.jpg
ORGANIZER;CN="Bergen County Horse Rescue":MAILTO:INFO@BERGENCOUNTYHORSERESCUE.ORG
END:VEVENT
BEGIN:VEVENT
DTSTART;TZID=UTC:20180301T190000
DTEND;TZID=UTC:20180301T210000
DTSTAMP:20260419T180616
CREATED:20180122T141756Z
LAST-MODIFIED:20180123T041803Z
UID:5732-1519930800-1519938000@www.northstarpets.org
SUMMARY:Uptown Art FUNdraiser for NorthStar Pet Rescue
DESCRIPTION:Like to paint? Like to drink? Like to help animals while having a good time with friends? This is the event for you! \nNorthStar Pet Rescue is hosting a paint and sip event at Uptown Art in Denville\, NJ. We will be painting this beautiful Spring picture. Feel free to bring your wine and snacks and get ready for fun! \n$45 per person – Purchase tickets here!  http://events.constantcontact.com/register/event?llr=75vyxh7ab&oeidk=a07ef1nk6c1f7521c67
URL:https://www.northstarpets.org/event/uptown-art-fundraiser-northstar-pet-rescue/
LOCATION:Uptown Arts\, Denville\, 28 Diamond Spring Road\, Denville\, NJ\, 07005\, United States
CATEGORIES:Charity,Entertainment,Fundraiser
ATTACH;FMTTYPE=image/png:https://www.northstarpets.org/wp-content/uploads/2018/01/2018-01-22-09_17_00-Uptown-Art-_-Meet-Drink-and-Paint-Happy.png
END:VEVENT
BEGIN:VEVENT
DTSTART;TZID=UTC:20171228T190000
DTEND;TZID=UTC:20171228T220000
DTSTAMP:20260419T180616
CREATED:20171213T144837Z
LAST-MODIFIED:20171214T043417Z
UID:5568-1514487600-1514498400@www.northstarpets.org
SUMMARY:Comedy Night Fundraiser!
DESCRIPTION:Bow WOW! 10% of each bill plus the 50/50 to benefit \n\n\nNorthStar Pet Rescue!\n\n\n \n\n\nCall 862-437-1300 to reserve your spot ahead as these shows “sell out”!!! (The show is 21 and over only. It is FREE with a minimum 2 item purchase\, and it is club style communal seating).\n\n\n \n\n\nThis show is brought to you by:\n\n\nVerbal Shenanigans Podcast and Dogfish Head Brewing\n\n\n \n\n\nThe Comedy Lineup:\n\n\nDon Jameson (Headliner…That Metal Show\, HBO\, MTV\, SiriusXM)\n\n\nJoe Carney\n\n\nMike Sicoli\n\n\nKP Burke\n\n\nScott Brennan (Host)\n\n\n \n\n\nThe Beer:\n\n\nLiquid Truth Serum\n\n\n60 min\n\n\n90 min\n\n\nFlesh & Blood \n\n\nBurton Baton\n\n\n \n\n\nThe Charity:\n\n\nNorth Star Pet Rescue\n\n\nSeating 7PM\, Show 8:30PM.  For more information\, visit https://www.facebook.com/verbalshenanigans
URL:https://www.northstarpets.org/event/comedy-night-fundraiser/
LOCATION:Taphouse 15\, 75 State Route 15S\, Jefferson\, NJ\, 07855\, United States
CATEGORIES:Charity,Entertainment,Fundraiser
ATTACH;FMTTYPE=image/jpeg:https://www.northstarpets.org/wp-content/uploads/2017/12/25286979_10215603452544629_10862978_n.jpg
END:VEVENT
END:VCALENDAR