BEGIN:VCALENDAR
VERSION:2.0
PRODID:-//Northstar Pet Rescue - ECPv6.15.17.1//NONSGML v1.0//EN
CALSCALE:GREGORIAN
METHOD:PUBLISH
X-WR-CALNAME:Northstar Pet Rescue
X-ORIGINAL-URL:https://www.northstarpets.org
X-WR-CALDESC:Events for Northstar Pet Rescue
REFRESH-INTERVAL;VALUE=DURATION:PT1H
X-Robots-Tag:noindex
X-PUBLISHED-TTL:PT1H
BEGIN:VTIMEZONE
TZID:UTC
BEGIN:STANDARD
TZOFFSETFROM:+0000
TZOFFSETTO:+0000
TZNAME:UTC
DTSTART:20180101T000000
END:STANDARD
END:VTIMEZONE
BEGIN:VEVENT
DTSTART;TZID=UTC:20191122T180000
DTEND;TZID=UTC:20191122T213000
DTSTAMP:20260419T154512
CREATED:20191116T031405Z
LAST-MODIFIED:20191116T031405Z
UID:7020-1574445600-1574458200@www.northstarpets.org
SUMMARY:BINGO! for NorthStar
DESCRIPTION:Friday night is Bingo night at St. John’s Church! \nJoin us for a Bingo Fundraiser for NorthStar Pet Rescue! \n$15 entrance fee includes prizes and dauber. \nNo need to sign up ahead of time\, just come! \nSnacks available or bring your own (no alcohol permitted). \nTry you luck in the 50/50 Raffle too! \nDoors open at 6pm and some of our adorable adoptables will be there to meet you. \nEd’s calling the numbers! Games start at 7pm. \nAll proceeds will go to NorthStar Pet Rescue. \nBINGO! Come join the fun! NorthStarPets.org
URL:https://www.northstarpets.org/event/bingo-for-northstar/
LOCATION:St John’s Church in Boonton NJ\, 226 Cornelia Street\, Boonton\, NJ\, 07005
CATEGORIES:Bingo,Entertainment
ATTACH;FMTTYPE=image/jpeg:https://www.northstarpets.org/wp-content/uploads/2019/11/74448236_971153169914358_4294131778832039936_n.jpg
END:VEVENT
BEGIN:VEVENT
DTSTART;TZID=UTC:20190315T180000
DTEND;TZID=UTC:20190315T210000
DTSTAMP:20260419T154512
CREATED:20190308T050729Z
LAST-MODIFIED:20190308T050729Z
UID:6521-1552672800-1552683600@www.northstarpets.org
SUMMARY:St. John’s Bingo Fundraiser
DESCRIPTION:? Dress your Mardi Gras best and join us! ?\nSt. John’s Bingo Fundraiser for NorthStar Pet Rescue! $15 entrance fee includes prizes and dauber. No need to sign up ahead of time\, just come! Snacks available or bring your own (no alcohol permitted). All proceeds will go to NorthStar Pet Rescue. Doors open at 6pm and some of our adorable adoptables will be there to meet you. Ed’s calling the numbers! Games start at 7pm. BINGO! Come join the fun! NorthStarPets.org
URL:https://www.northstarpets.org/event/st-johns-bingo-fundraiser/
LOCATION:St John’s Church in Boonton NJ\, 226 Cornelia Street\, Boonton\, NJ\, 07005
CATEGORIES:Bingo,Charity
ATTACH;FMTTYPE=image/png:https://www.northstarpets.org/wp-content/uploads/2019/03/2019-03-08-00_06_16-Window.png
END:VEVENT
END:VCALENDAR