BEGIN:VCALENDAR
VERSION:2.0
PRODID:-//Northstar Pet Rescue - ECPv6.15.17.1//NONSGML v1.0//EN
CALSCALE:GREGORIAN
METHOD:PUBLISH
X-WR-CALNAME:Northstar Pet Rescue
X-ORIGINAL-URL:https://www.northstarpets.org
X-WR-CALDESC:Events for Northstar Pet Rescue
REFRESH-INTERVAL;VALUE=DURATION:PT1H
X-Robots-Tag:noindex
X-PUBLISHED-TTL:PT1H
BEGIN:VTIMEZONE
TZID:UTC
BEGIN:STANDARD
TZOFFSETFROM:+0000
TZOFFSETTO:+0000
TZNAME:UTC
DTSTART:20180101T000000
END:STANDARD
END:VTIMEZONE
BEGIN:VEVENT
DTSTART;TZID=UTC:20190907T130000
DTEND;TZID=UTC:20190907T170000
DTSTAMP:20260423T132459
CREATED:20190909T041134Z
LAST-MODIFIED:20190909T041134Z
UID:6941-1567861200-1567875600@www.northstarpets.org
SUMMARY:NSPR at BrewFest Boonton!
DESCRIPTION:Enjoy an afternoon in Boonton’s Canalside Park! \nStop by to see us at NJ Highlands BrewFest at Boonton! Look for our NorthStar tent and pop by to say hi! Pick up your Super 50/50 Raffle tickets too! Tickets are $10 each. Drawing is 9/29\, winner need not be present. $10\,000 to winner last year!\nFor more info about us visit NorthStarPets.org \nThis fun event benefits the NJ Highlands Coalition and will feature over 40 breweries and 80 beers! In addition to the craft beer sampling\, the afternoon will feature live music as well as food\, vendors and local merchants. For more event info+tickets visit njhighlandsbrewfest.com
URL:https://www.northstarpets.org/event/nspr-at-brewfest-boonton/
LOCATION:Canalside Park\, Boonton NJ\, End of Plane Street Parking Lot\, Boonton\, NJ\, 07005
CATEGORIES:Adoption,Beer,Charity,Dining,Entertainment,Food Trucks
ATTACH;FMTTYPE=image/jpeg:https://www.northstarpets.org/wp-content/uploads/2019/09/68836510_910232409339768_8772315580746170368_n.jpg
END:VEVENT
END:VCALENDAR