BEGIN:VCALENDAR
VERSION:2.0
PRODID:-//Northstar Pet Rescue - ECPv6.15.17.1//NONSGML v1.0//EN
CALSCALE:GREGORIAN
METHOD:PUBLISH
X-WR-CALNAME:Northstar Pet Rescue
X-ORIGINAL-URL:https://www.northstarpets.org
X-WR-CALDESC:Events for Northstar Pet Rescue
REFRESH-INTERVAL;VALUE=DURATION:PT1H
X-Robots-Tag:noindex
X-PUBLISHED-TTL:PT1H
BEGIN:VTIMEZONE
TZID:UTC
BEGIN:STANDARD
TZOFFSETFROM:+0000
TZOFFSETTO:+0000
TZNAME:UTC
DTSTART:20170101T000000
END:STANDARD
END:VTIMEZONE
BEGIN:VEVENT
DTSTART;TZID=UTC:20181209T110000
DTEND;TZID=UTC:20181209T160000
DTSTAMP:20260421T203246
CREATED:20181128T210306Z
LAST-MODIFIED:20181128T210306Z
UID:6349-1544353200-1544371200@www.northstarpets.org
SUMMARY:Santa Pix & NorthStar Pups!
DESCRIPTION:HO HO HO! It’s Paws-itively wonderful\, Santa has arrived! Come get your pups picture with Santa + meet some of the adorable adoptables of NorthStar Pet Rescue!
URL:https://www.northstarpets.org/event/santa-pix-northstar-pups/
LOCATION:Pawsitive Experience Pet Services\, 114 Beach Street\, Rockaway\, NJ\, 07866
CATEGORIES:Adoption,Charity,Entertainment
ATTACH;FMTTYPE=image/jpeg:https://www.northstarpets.org/wp-content/uploads/2018/11/45191592_730253454004332_6429959349447163904_n.jpg
END:VEVENT
BEGIN:VEVENT
DTSTART;TZID=UTC:20181208T120000
DTEND;TZID=UTC:20181208T150000
DTSTAMP:20260421T203246
CREATED:20181128T203825Z
LAST-MODIFIED:20181128T203825Z
UID:6340-1544270400-1544281200@www.northstarpets.org
SUMMARY:WDHA’s Home for the Howlidays Extravaganza
DESCRIPTION:It’s time to ROCK the Holidays and ROCK Rescue with WDHA and Dover Dodge’s 6th Annual – Home For The Howlidays Extravaganza at Dover Dodge\, Chrysler Jeep Ram on Rt. 46 in Rockaway- Saturday 12/8 from Noon-3pm! \nParticipating shelters include Mt. Pleasant in East Hanover\, Eleventh Hour Rescue in Randolph\, Randolph Regional Animal Shelter\, NorthStar Pet Rescue\, Associated Humane Societies of Newark NJ\, OSCAR in Sparta\, Sedona Shepherd Rescue and more….meet your new best friend with dogs and cats looking for forever homes. \n 
URL:https://www.northstarpets.org/event/wdhas-home-for-the-howlidays-extravaganza/
LOCATION:Dover Dodge\, 396 Route 46\, Rockaway\, NJ\, 07866\, United States
CATEGORIES:Adoption,Entertainment
ATTACH;FMTTYPE=image/jpeg:https://www.northstarpets.org/wp-content/uploads/2018/11/Home-For-The-Howlidays-2018.jpg
END:VEVENT
BEGIN:VEVENT
DTSTART;TZID=UTC:20181202T120000
DTEND;TZID=UTC:20181202T150000
DTSTAMP:20260421T203246
CREATED:20180917T025713Z
LAST-MODIFIED:20180917T025713Z
UID:6199-1543752000-1543762800@www.northstarpets.org
SUMMARY:Adoption Day - Pucci Pet Spa
DESCRIPTION:Come see some of our adoptable pets at Pucci Pet Spa!
URL:https://www.northstarpets.org/event/adoption-day-pucci-pet-spa/
LOCATION:Pucci Pet Spa\, 57 Main Street\, Chester\, NJ\, 07930
CATEGORIES:Adoption
ATTACH;FMTTYPE=image/jpeg:https://www.northstarpets.org/wp-content/uploads/2018/09/41745275_705411126488565_5415249531648344064_n.jpg
END:VEVENT
BEGIN:VEVENT
DTSTART;TZID=UTC:20181124T130000
DTEND;TZID=UTC:20181124T170000
DTSTAMP:20260421T203246
CREATED:20180123T043334Z
LAST-MODIFIED:20180123T043334Z
UID:5757-1543064400-1543078800@www.northstarpets.org
SUMMARY:See Our Adoptable Dogs - Boonton Annual Christmas Parade
DESCRIPTION:Come see some of our adoptable dogs marching in the Annual Boonton Christmas Parade!  After the parade\, we’ll be at Santaland by the Senior Center.  Parade Starts at the Upper Plane St. parking lot and ends in the Sr. Center parking lot / Santa Land.
URL:https://www.northstarpets.org/event/see-adoptable-dogs-boonton-annual-christmas-parade-2/
LOCATION:NJ
CATEGORIES:Adoption,Exhibition,Parade
ATTACH;FMTTYPE=image/jpeg:https://www.northstarpets.org/wp-content/uploads/2017/10/B9319794306Z.1_20151120182613_000_GE2CKHED3.1-0.jpg
END:VEVENT
BEGIN:VEVENT
DTSTART;TZID=UTC:20181117T120000
DTEND;TZID=UTC:20181117T150000
DTSTAMP:20260421T203246
CREATED:20180131T190100Z
LAST-MODIFIED:20180131T190100Z
UID:5784-1542456000-1542466800@www.northstarpets.org
SUMMARY:Adoption Event - Pet Supplies Plus - Oakland NJ
DESCRIPTION:Come see some of our adoptable dogs at Pet Supplies Plus in Oakland New Jersey.
URL:https://www.northstarpets.org/event/adoption-event-pet-supplies-plus-oakland-nj-3-3-2-2-2-2-2/
LOCATION:Pet Supplies Plus Oakland\, 350 Ramapo Valley Rd #28\, Oakland\, NJ\, 07436
CATEGORIES:Adoption,Charity
ATTACH;FMTTYPE=image/png:https://www.northstarpets.org/wp-content/uploads/2017/11/petsuppliesplus2-500.png
END:VEVENT
BEGIN:VEVENT
DTSTART;TZID=UTC:20181103T120000
DTEND;TZID=UTC:20181103T150000
DTSTAMP:20260421T203246
CREATED:20180905T205000Z
LAST-MODIFIED:20180905T205000Z
UID:6184-1541246400-1541257200@www.northstarpets.org
SUMMARY:Adoption Day-Bubba Rose
DESCRIPTION:Buy some sweet treats plus meet some of the adorable adoptables of #NorthStarPetRescue\, now that’s a #pawesome #SaturYAY! Come on by and see us at #BubbaRoseBiscuitCo! #AdoptDontShop #OptToAdopt #NSPR ?? NorthStarPets.org
URL:https://www.northstarpets.org/event/adoption-day-bubba-rose-2/
LOCATION:Bubba Rose Biscuit Company\, 84 South Street\, Morristown\, NJ\, 07960\, United States
CATEGORIES:Adoption,Shopping
ATTACH;FMTTYPE=image/jpeg:https://www.northstarpets.org/wp-content/uploads/2017/10/17807664_387864434945809_528744440317663234_o.jpg
END:VEVENT
BEGIN:VEVENT
DTSTART;TZID=UTC:20181028T110000
DTEND;TZID=UTC:20181028T150000
DTSTAMP:20260421T203246
CREATED:20180801T035715Z
LAST-MODIFIED:20181026T190433Z
UID:6135-1540724400-1540738800@www.northstarpets.org
SUMMARY:BARKtoberfest 2018
DESCRIPTION:Join us for BARKtoberfest 2018 at The Turtle Back Zoo! A fun filled day at the Zoo celebrating and supporting local animal rescue groups\, including us! Shop local vendors\, food trucks and enjoy entertainment while you find your forever friend!\nNorthStarPets.org #NSPR #NorthStarPetRescue
URL:https://www.northstarpets.org/event/barktoberfest-2018/
LOCATION:Turtleback Zoo\, 560 Northfield Ave\, West Orange\, NJ\, 07052
CATEGORIES:Adoption,Dining,Entertainment,Shopping
ATTACH;FMTTYPE=image/jpeg:https://www.northstarpets.org/wp-content/uploads/2018/08/38085142_666356103727401_1290470366291951616_n.jpg
END:VEVENT
BEGIN:VEVENT
DTSTART;TZID=UTC:20181021T120000
DTEND;TZID=UTC:20181021T150000
DTSTAMP:20260421T203246
CREATED:20180131T190027Z
LAST-MODIFIED:20180905T203605Z
UID:5782-1540123200-1540134000@www.northstarpets.org
SUMMARY:Multi-Rescue Adoption Day-Pet Supplies Plus Oakland
DESCRIPTION:It’s an Adoption Party! Come meet some of our adorable pups up for adoption! \nAlong with various other rescues\, we will be set up inside the mall area. \nNorthStarPets.org
URL:https://www.northstarpets.org/event/adoption-event-pet-supplies-plus-oakland-nj-3-3-2-2-2-2/
LOCATION:Pet Supplies Plus Oakland\, 350 Ramapo Valley Rd #28\, Oakland\, NJ\, 07436
CATEGORIES:Adoption,Charity
ATTACH;FMTTYPE=image/png:https://www.northstarpets.org/wp-content/uploads/2017/11/petsuppliesplus2-500.png
END:VEVENT
BEGIN:VEVENT
DTSTART;TZID=UTC:20181014T110000
DTEND;TZID=UTC:20181014T140000
DTSTAMP:20260421T203246
CREATED:20180917T025407Z
LAST-MODIFIED:20180917T025407Z
UID:6195-1539514800-1539525600@www.northstarpets.org
SUMMARY:DOG ADOPTION DAY + Dog Owner Appreciation at RE/MAX First Choice
DESCRIPTION:Come see some of our adoptable pups at RE/MAX First Choice in Parsippany!
URL:https://www.northstarpets.org/event/dog-adoption-day-dog-owner-appreciation-re-max-first-choice/
LOCATION:RE/MAX First Choice Parsippany\, 1160 Route 46 West\, Parsippany\, NJ\, 07054
CATEGORIES:Adoption
ATTACH;FMTTYPE=image/jpeg:https://www.northstarpets.org/wp-content/uploads/2018/09/41101868_701143373582007_523919085931593728_n.jpg
END:VEVENT
BEGIN:VEVENT
DTSTART;TZID=UTC:20181006T100000
DTEND;TZID=UTC:20181006T160000
DTSTAMP:20260421T203246
CREATED:20180801T035148Z
LAST-MODIFIED:20180801T035148Z
UID:6131-1538820000-1538841600@www.northstarpets.org
SUMMARY:Passaic County's Third Annual Paws in the Park!
DESCRIPTION:Join us for Passaic County’s 3rd Annual PAWS IN THE PARK! Cat & Dog Adoptions\, K9 Demonstrations\, Microchipping\, Facepainting\, Pet Contests\, Food Trucks\, Prizes & More! Proceeds Benefit the Passaic County Sheriff’s Department K-9 Unit. Totally #pawesome! (Rain date 10/7/18)\n#NSPR #NorthStarPetRescue NorthStarPets.org
URL:https://www.northstarpets.org/event/passaic-countys-third-annual-paws-park/
LOCATION:Goffle Brook Park\, 788 Lafayette Ave\, Hawthorne\, NJ\, 07506
CATEGORIES:Adoption,Dining,Entertainment,Exhibition,Fair/Street Fair,Food Trucks,Shopping
ATTACH;FMTTYPE=image/jpeg:https://www.northstarpets.org/wp-content/uploads/2018/08/38000346_666372040392474_3216266889307095040_n.jpg
END:VEVENT
BEGIN:VEVENT
DTSTART;TZID=UTC:20180930T120000
DTEND;TZID=UTC:20180930T160000
DTSTAMP:20260421T203246
CREATED:20180123T043816Z
LAST-MODIFIED:20180905T204517Z
UID:5759-1538308800-1538323200@www.northstarpets.org
SUMMARY:Boonton Day - 50/50 DRAWING!  Adoption Event!
DESCRIPTION:We will be set up at Boonton day with some adoptable pups.  We’ll also be doing the drawing for our 50/50 fundraiser!  Tickets still available and will be available for sale on Boonton day right up until the drawing!   Expected prize to the winner is $10\,000.00!!! \nTickets available here: \nhttp://events.r20.constantcontact.com/register/event?oeidk=a07efhekiny653ff9ee&llr=75vyxh7ab
URL:https://www.northstarpets.org/event/adoption-event-boonton-day-save-date/
LOCATION:Main Street Boonton NJ\, Main Street\, Boonton\, NJ\, 07005
CATEGORIES:Adoption,Entertainment,Fair/Street Fair
ATTACH;FMTTYPE=image/jpeg:https://www.northstarpets.org/wp-content/uploads/2018/01/2018-01-22-23_36_50-boonton-day-Google-Search.jpg
END:VEVENT
BEGIN:VEVENT
DTSTART;TZID=UTC:20180929T120000
DTEND;TZID=UTC:20180929T150000
DTSTAMP:20260421T203246
CREATED:20180905T203510Z
LAST-MODIFIED:20180905T203510Z
UID:6170-1538222400-1538233200@www.northstarpets.org
SUMMARY:Sip & See IMPERFECTUS: a party for our special needs dogs
DESCRIPTION:Dogs\, just like people\, have personalities. Most of the time it’s endearing to all\, but sometimes they show their good sides only to a select few. Or maybe they’re too old\, too slow\, too grey\, or too crusty. Other times they may be too shy or timid to let their personalities shine through with only a few minutes to impress the masses. This party is for those dogs; the cranky ones\, the senile ones\, the shy ones. This party is for the imperfectus. Please join us in celebrating and showcasing our imperfect dogs; the ones with special needs who cannot attend regular events under the strain of the typical hustle and bustle. These dogs are usually our long term foster residents because a suitable home with the patience required is so rare that they may stay with us indefinitely until an angel steps up to take them home. They’re all in good hands\, loved and well taken care of\, but it will never be as good as a stable and permanent forever home sweet home! NorthStarPets.org #AdoptDontShop #NSPR #NorthStarPetRescue #PerfectlyImperfect
URL:https://www.northstarpets.org/event/sip-see-imperfectus-party-special-needs-dogs/
LOCATION:Bergen County Horse Rescue\, 350 Ramapo Valley Road\, Mahwah\, NJ\, 07430\, United States
CATEGORIES:Adoption
ATTACH;FMTTYPE=image/jpeg:https://www.northstarpets.org/wp-content/uploads/2018/09/40889502_699797620383249_575368219997503488_n.jpg
END:VEVENT
BEGIN:VEVENT
DTSTART;TZID=UTC:20180915T110000
DTEND;TZID=UTC:20180915T190000
DTSTAMP:20260421T203246
CREATED:20180801T034224Z
LAST-MODIFIED:20180801T034529Z
UID:6127-1537009200-1537038000@www.northstarpets.org
SUMMARY:Just Jersey Fest - Ort Farms Food Truck Festival
DESCRIPTION:The Just Jersey Fest is rolling into Ort Farms and we are on board! This is no ordinary food truck festival! 15 Food Trucks\, Beer & Sangria Garden\, face painting\, DJ & plenty of farm activities.\n• Cow Train Ride\n• Pony Rides\n• Apple Cannon\n• Animals to pet & feed\n• Corn Maze\n* Hayrides\n* Pick your own Pumpkins!\n(the corn maze and hayrides are across the street from the festival\, and re-admittance is included) \n??Stop by our tent to say hi and meet some of the #pawesome pups we have up for adoption!?? \nNorthStarPets.org \n***RAIN DATE 9/16/18***
URL:https://www.northstarpets.org/event/just-jersey-fest-ort-farms-food-truck-festival/
LOCATION:Ort Farms\, 25 Bartley Road\, Flanders\, NJ\, 07853
CATEGORIES:Adoption,Dining,Entertainment,Food Trucks
ATTACH;FMTTYPE=image/jpeg:https://www.northstarpets.org/wp-content/uploads/2018/08/37716461_660385600991118_7552020405930688512_n.jpg
END:VEVENT
BEGIN:VEVENT
DTSTART;TZID=UTC:20180908T120000
DTEND;TZID=UTC:20180908T150000
DTSTAMP:20260421T203246
CREATED:20180123T043213Z
LAST-MODIFIED:20180905T202209Z
UID:5754-1536408000-1536418800@www.northstarpets.org
SUMMARY:Adoption Event - Pupcakes and Pawstries
DESCRIPTION:Come on down to the Shoppe and meet some of our wonderful adoptable dogs!
URL:https://www.northstarpets.org/event/adoption-event-pupcakes-pawstries-may-12-2018-2-2/
LOCATION:Pupcakes and Pawstries\, 337 US Highway Rt 202/206\, Bridgewater\, NJ\, 08807
CATEGORIES:Adoption
ATTACH;FMTTYPE=image/png:https://www.northstarpets.org/wp-content/uploads/2017/11/pplogo.png
END:VEVENT
BEGIN:VEVENT
DTSTART;TZID=UTC:20180818T120000
DTEND;TZID=UTC:20180818T150000
DTSTAMP:20260421T203246
CREATED:20180131T185929Z
LAST-MODIFIED:20180801T033445Z
UID:5780-1534593600-1534604400@www.northstarpets.org
SUMMARY:Adoption Event - IHAD 2018 at Pet Supplies Plus - Oakland NJ
DESCRIPTION:We are proud to be participating in 2018 #InternationalHomelessAnimals Day being held across the globe today\, August 18th! A perfect day to #OptToAdopt! Come meet some of our adorable pups up for adoption! NorthStarPets.org\n#IHAD #NSPR #NorthStarPetRescue #AdoptDontShop
URL:https://www.northstarpets.org/event/adoption-event-pet-supplies-plus-oakland-nj-3-3-2-2-2/
LOCATION:Pet Supplies Plus Oakland\, 350 Ramapo Valley Rd #28\, Oakland\, NJ\, 07436
CATEGORIES:Adoption,Charity
ATTACH;FMTTYPE=image/jpeg:https://www.northstarpets.org/wp-content/uploads/2018/01/37572986_656013964761615_2472085744244490240_n.jpg
END:VEVENT
BEGIN:VEVENT
DTSTART;TZID=UTC:20180811T090000
DTEND;TZID=UTC:20180811T120000
DTSTAMP:20260421T203246
CREATED:20180801T033222Z
LAST-MODIFIED:20180801T033222Z
UID:6115-1533978000-1533988800@www.northstarpets.org
SUMMARY:Island Dragway Tri-Rescue Adoption Day
DESCRIPTION:‘Speed’ on over to Island Dragway to meet some pawesome pups up for adoption from NorthStar Pet Rescue\, Bully Rescue Warriors and Forgotten Tails Rescue. Plus do some shopping at the fabulous vendors joining us! Bow Wow! \nBe ready to shop at:\n•AlphaZell\n•Dog With a Mustache\n•Ellie Within\n•Lularoe\n•Painting With a Purpose\n•Patriotic at Heart\n•Paparazzi\n•Scentsy\n•31
URL:https://www.northstarpets.org/event/island-dragway-tri-rescue-adoption-day/
LOCATION:Island Dragway\, 20 Island Road\, Great Meadows\, NJ
CATEGORIES:Adoption,Entertainment,Shopping
ATTACH;FMTTYPE=image/jpeg:https://www.northstarpets.org/wp-content/uploads/2018/08/36087752_630207897342222_1068719808935100416_n.jpg
END:VEVENT
BEGIN:VEVENT
DTSTART;TZID=UTC:20180804T110000
DTEND;TZID=UTC:20180804T190000
DTSTAMP:20260421T203246
CREATED:20180801T032815Z
LAST-MODIFIED:20180801T032815Z
UID:6110-1533380400-1533409200@www.northstarpets.org
SUMMARY:Just Jersey Fest - Rockaway Food Truck Festival
DESCRIPTION:The Just Jersey Fest is rolling into Rockaway Borough. Food! Beer! Music! Fun! It’s a fun filled family day! Over 20 Gourmet Food Trucks\, partnered with some incredible bands\, make for an enchanting and fulfilling summer day. \nBring your appetite\, lawn chairs\, 4 legged friends and blankets. Dine on excellent food\, while enjoying the beer and sangria garden along with the amazing sounds. Dogs are welcome! \nStop by our tent to say hi and meet some of the #pawesome pups we have up for adoption!
URL:https://www.northstarpets.org/event/just-jersey-fest-rockaway-food-truck-festival/
LOCATION:Field at 144 Beach Street Rockaway NJ\, 144 beach Street\, Rockaway\, NJ
CATEGORIES:Adoption,Dining,Entertainment,Food Trucks
ATTACH;FMTTYPE=image/jpeg:https://www.northstarpets.org/wp-content/uploads/2018/08/37717222_660381547658190_2228762244764663808_n.jpg
END:VEVENT
BEGIN:VEVENT
DTSTART;TZID=UTC:20180721T120000
DTEND;TZID=UTC:20180721T150000
DTSTAMP:20260421T203246
CREATED:20180131T185847Z
LAST-MODIFIED:20180131T185847Z
UID:5778-1532174400-1532185200@www.northstarpets.org
SUMMARY:Adoption Event - Pet Supplies Plus - Oakland NJ
DESCRIPTION:Come see some of our adoptable dogs at Pet Supplies Plus in Oakland New Jersey.
URL:https://www.northstarpets.org/event/adoption-event-pet-supplies-plus-oakland-nj-3-3-2-2/
LOCATION:Pet Supplies Plus Oakland\, 350 Ramapo Valley Rd #28\, Oakland\, NJ\, 07436
CATEGORIES:Adoption,Charity
ATTACH;FMTTYPE=image/png:https://www.northstarpets.org/wp-content/uploads/2017/11/petsuppliesplus2-500.png
END:VEVENT
BEGIN:VEVENT
DTSTART;TZID=UTC:20180714T120000
DTEND;TZID=UTC:20180714T150000
DTSTAMP:20260421T203246
CREATED:20180123T043114Z
LAST-MODIFIED:20180123T043114Z
UID:5752-1531569600-1531580400@www.northstarpets.org
SUMMARY:Adoption Event - Pupcakes and Pawstries
DESCRIPTION:Come on down to the Shoppe and meet some of our wonderful adoptable dogs!
URL:https://www.northstarpets.org/event/adoption-event-pupcakes-pawstries-may-12-2018-2/
LOCATION:Pupcakes and Pawstries\, 337 US Highway Rt 202/206\, Bridgewater\, NJ\, 08807
CATEGORIES:Adoption
ATTACH;FMTTYPE=image/png:https://www.northstarpets.org/wp-content/uploads/2017/11/pplogo.png
END:VEVENT
BEGIN:VEVENT
DTSTART;TZID=UTC:20180628T170000
DTEND;TZID=UTC:20180628T210000
DTSTAMP:20260421T203246
CREATED:20180502T035027Z
LAST-MODIFIED:20180601T043010Z
UID:5934-1530205200-1530219600@www.northstarpets.org
SUMMARY:Meet Me In Morristown - Adoption Event-Bubba Rose Biscuit Company
DESCRIPTION:Meet Me in Morristown! A night out featuring art\, music\, and more! Make sure to stop by Bubba Rose to pick up some goodies for your furry friends plus meet some of our adorable adoptable pups! Bow WOW!
URL:https://www.northstarpets.org/event/adoption-day-bubba-rose/
LOCATION:Bubba Rose Biscuit Company\, 84 South Street\, Morristown\, NJ\, 07960\, United States
CATEGORIES:Adoption,Shopping
ATTACH;FMTTYPE=image/jpeg:https://www.northstarpets.org/wp-content/uploads/2017/10/17807664_387864434945809_528744440317663234_o.jpg
END:VEVENT
BEGIN:VEVENT
DTSTART;TZID=UTC:20180623T120000
DTEND;TZID=UTC:20180623T150000
DTSTAMP:20260421T203246
CREATED:20180502T034806Z
LAST-MODIFIED:20180502T034806Z
UID:5930-1529755200-1529766000@www.northstarpets.org
SUMMARY:WDHA Dog Days of Summer
DESCRIPTION:Come on out for DOGgone good time! Enjoy the festivities hosted by WDHA plus meet some of our pawesome pups up for adoption!
URL:https://www.northstarpets.org/event/wdha-dog-days-summer/
LOCATION:Dover Dodge\, 396 Route 46\, Rockaway\, NJ\, 07866\, United States
CATEGORIES:Adoption
ATTACH;FMTTYPE=image/jpeg:https://www.northstarpets.org/wp-content/uploads/2018/05/31206537_595657830797229_1672046303229509632_n.jpg
END:VEVENT
BEGIN:VEVENT
DTSTART;TZID=UTC:20180616T120000
DTEND;TZID=UTC:20180616T150000
DTSTAMP:20260421T203246
CREATED:20180131T185643Z
LAST-MODIFIED:20180131T185643Z
UID:5776-1529150400-1529161200@www.northstarpets.org
SUMMARY:Adoption Event - Pet Supplies Plus - Oakland NJ
DESCRIPTION:Come see some of our adoptable dogs at Pet Supplies Plus in Oakland New Jersey.
URL:https://www.northstarpets.org/event/adoption-event-pet-supplies-plus-oakland-nj-3-3-2/
LOCATION:Pet Supplies Plus Oakland\, 350 Ramapo Valley Rd #28\, Oakland\, NJ\, 07436
CATEGORIES:Adoption,Charity
ATTACH;FMTTYPE=image/png:https://www.northstarpets.org/wp-content/uploads/2017/11/petsuppliesplus2-500.png
END:VEVENT
BEGIN:VEVENT
DTSTART;TZID=UTC:20180609T083000
DTEND;TZID=UTC:20180609T130000
DTSTAMP:20260421T203246
CREATED:20180514T145258Z
LAST-MODIFIED:20180514T145258Z
UID:6037-1528533000-1528549200@www.northstarpets.org
SUMMARY:Adoption Day & Bake Sale -Boonton Farmers Market
DESCRIPTION:Opening Day at the Boonton Farmers Market and we will be there with some adorable adoptable pups to greet you with wags and kisses! To raise funds for our rescue doggies we will also be selling fresh baked home made dog goodies\, yummy! Make sure to stop by! NorthStarPets.org \nThe Boonton Farmers Market is set up in the Plane Street Parking Lot located behind the 800 block of Main Street. Look for our blue NorthStar tent!
URL:https://www.northstarpets.org/event/adoption-day-bake-sale-boonton-farmers-market/
LOCATION:Boonton Farmer’s Market\, Plane Street Parking Lot\, Boonton\, NJ\, 07005\, United States
CATEGORIES:Adoption,Farmer's Market,Shopping
ATTACH;FMTTYPE=image/jpeg:https://www.northstarpets.org/wp-content/uploads/2018/05/32235484_603545573341788_7777375136633585664_n.jpg
END:VEVENT
BEGIN:VEVENT
DTSTART;TZID=UTC:20180605T183000
DTEND;TZID=UTC:20180605T223000
DTSTAMP:20260421T203246
CREATED:20180502T215301Z
LAST-MODIFIED:20180502T215301Z
UID:5963-1528223400-1528237800@www.northstarpets.org
SUMMARY:Food Truck Tuesday/Adoption Event
DESCRIPTION:Come check out some of our adoptable dogs while grabbing a bite to eat at a food truck!  Live music\, artisan vendors\, fun\, games\, and so much more!
URL:https://www.northstarpets.org/event/food-truck-tuesday-adoption-event-3/
LOCATION:Canalside Park\, Boonton NJ\, End of Plane Street Parking Lot\, Boonton\, NJ\, 07005
CATEGORIES:Adoption,Dining,Entertainment,Shopping
ATTACH;FMTTYPE=image/png:https://www.northstarpets.org/wp-content/uploads/2018/05/2018-05-02-14_58_48-30704442_2127969143887709_7924192623642804224_o.jpg-JPEG-Image-1080-×-1350-pix.png
END:VEVENT
BEGIN:VEVENT
DTSTART;TZID=UTC:20180522T183000
DTEND;TZID=UTC:20180522T223000
DTSTAMP:20260421T203246
CREATED:20180502T215015Z
LAST-MODIFIED:20180502T215015Z
UID:5956-1527013800-1527028200@www.northstarpets.org
SUMMARY:Food Truck Tuesday/Adoption Event
DESCRIPTION:Come check out some of our adoptable dogs while grabbing a bite to eat at a food truck!  Live music\, artisan vendors\, fun\, games\, and so much more!
URL:https://www.northstarpets.org/event/food-truck-tuesday-adoption-event/
LOCATION:Canalside Park\, Boonton NJ\, End of Plane Street Parking Lot\, Boonton\, NJ\, 07005
CATEGORIES:Adoption,Dining,Entertainment,Shopping
ATTACH;FMTTYPE=image/png:https://www.northstarpets.org/wp-content/uploads/2018/05/2018-05-02-14_58_48-30704442_2127969143887709_7924192623642804224_o.jpg-JPEG-Image-1080-×-1350-pix.png
END:VEVENT
BEGIN:VEVENT
DTSTART;TZID=UTC:20180520T090000
DTEND;TZID=UTC:20180520T130000
DTSTAMP:20260421T203246
CREATED:20180514T145034Z
LAST-MODIFIED:20180518T174257Z
UID:6033-1526806800-1526821200@www.northstarpets.org
SUMMARY:Pups & Porsches! Paul Miller Car Show & Adoption Day
DESCRIPTION:Pups & Porsches\, oh my! ?\nVROOM! Drive on over to Paul Miller Porsche on Sunday\, May 20th from 9am-1:30pm for their Annual Car Show! Enjoy vendors\, food trucks\, and SPECIAL FURRY GUESTS from NORTHSTAR PET RESCUE and Eleventh Hour Rescue. Bow WOW! For a real tail wagging good time make sure to stop by our NorthStar tent to meet some of our adorable adoptable dogs! See you there\, WOOF! NorthStarPets.org #adoptdontshop #NSPR #northstarpetrescue #paulmillerporsche
URL:https://www.northstarpets.org/event/pups-porsches-paul-miller-car-show-adoption-day/
LOCATION:Paul Miller Porsche\, 3419 US Highway 46\, Parsippany\, NJ\, 07054
CATEGORIES:Adoption,Entertainment,Exhibition
ATTACH;FMTTYPE=image/jpeg:https://www.northstarpets.org/wp-content/uploads/2018/05/31659911_1877885422251101_3420008343849140224_o.jpg
END:VEVENT
BEGIN:VEVENT
DTSTART;TZID=UTC:20180512T120000
DTEND;TZID=UTC:20180512T150000
DTSTAMP:20260421T203246
CREATED:20180122T142246Z
LAST-MODIFIED:20180122T142246Z
UID:5738-1526126400-1526137200@www.northstarpets.org
SUMMARY:Adoption Event - Pupcakes and Pawstries
DESCRIPTION:Come on down to the Shoppe and meet some of our wonderful adoptable dogs!
URL:https://www.northstarpets.org/event/adoption-event-pupcakes-pawstries-may-12-2018/
LOCATION:Pupcakes and Pawstries\, 337 US Highway Rt 202/206\, Bridgewater\, NJ\, 08807
CATEGORIES:Adoption
ATTACH;FMTTYPE=image/png:https://www.northstarpets.org/wp-content/uploads/2017/11/pplogo.png
END:VEVENT
BEGIN:VEVENT
DTSTART;TZID=UTC:20180512T120000
DTEND;TZID=UTC:20180512T140000
DTSTAMP:20260421T203246
CREATED:20180508T040344Z
LAST-MODIFIED:20180508T040344Z
UID:5969-1526126400-1526133600@www.northstarpets.org
SUMMARY:Adoption Event - Susie's Senior Dogs NYC
DESCRIPTION:NYC or bust! A few of our spectacular seniors will be making their way into NYC to join Susie’s Senior Dogs for their Senior Dogs Adoption Event. Stop by and fall in love with a senior looking for a home sweet home!
URL:https://www.northstarpets.org/event/adoption-event-susies-senior-dogs-nyc/
LOCATION:Chelsea Market\, 75 9th Avenue\, New York\, NY\, 10011
CATEGORIES:Adoption,Entertainment,Fair/Street Fair,Farmer's Market
ATTACH;FMTTYPE=image/jpeg:https://www.northstarpets.org/wp-content/uploads/2018/05/31913999_600594996970179_6537671562953228288_n.jpg
END:VEVENT
BEGIN:VEVENT
DTSTART;TZID=UTC:20180505T120000
DTEND;TZID=UTC:20180505T150000
DTSTAMP:20260421T203246
CREATED:20180401T181053Z
LAST-MODIFIED:20180401T181053Z
UID:5909-1525521600-1525532400@www.northstarpets.org
SUMMARY:Adoption Event - The Coffee Potter
DESCRIPTION:Come on out for some SaturYAY fun…meet some of our adorable adoptable pups…grab a cup of joe…take a walk on the adjacent Columbia Trail…pawesome!
URL:https://www.northstarpets.org/event/adoption-event-coffee-potter/
LOCATION:The Coffee Potter\, 24 Schooley's Mountain Road\, Long Valley\, NJ\, 07853\, United States
CATEGORIES:Adoption
ATTACH;FMTTYPE=image/jpeg:https://www.northstarpets.org/wp-content/uploads/2018/04/29572348_10213700171111894_4763513487022773639_n.jpg
END:VEVENT
BEGIN:VEVENT
DTSTART;TZID=UTC:20180428T110000
DTEND;TZID=UTC:20180428T160000
DTSTAMP:20260421T203246
CREATED:20171230T164749Z
LAST-MODIFIED:20171230T164946Z
UID:5627-1524913200-1524931200@www.northstarpets.org
SUMMARY:Onyx & Breezy Foundation 3rd Annual Memorial Walk and Event
DESCRIPTION:Northstar Pet Rescue will be joining The Onyx & Breezy Foundation for their 3rd Annual Memorial Walk “I Walk to Remember” Event at Horseshoe Lake (72 Eyland Avenue\, Succasunna\, in Roxbury\, NJ). \nA great day to all come together to remember our loving pets that we have lost and to celebrate their lives with music\, free children’s activities\, 50/50 raffle\, vendors\, food and drink concessions and a tricky tray auction to raise much needed funds to continue the mission of The Onyx & Breezy Foundation. \nThe Onyx & Breezy Foundation is a non-profit 501c3 organization that is a volunteer based organization that provides financial support to credible organizations and individuals that benefit the welfare of animals. They are unique in that 100% of every dollar raised goes towards saving the lives of animals every day. \nWe love The Onyx & Breezy Foundation so come on down and see us and enjoy a great day that is all about our love for dogs! \n(This event is is rain or shine)
URL:https://www.northstarpets.org/event/onyx-breezy-foundation-3rd-annual-memorial-walk-event/
LOCATION:Horseshoe Lake\, Succasunna NJ\, 72 Eyland Ave\, Succasunna\, NJ\, 07876
CATEGORIES:Adoption,Charity,Fundraiser
ATTACH;FMTTYPE=image/jpeg:https://www.northstarpets.org/wp-content/uploads/2017/12/onyx-breezy10thgala-logo13.jpg
END:VEVENT
END:VCALENDAR